BEGIN:VCALENDAR
VERSION:2.0
PRODID:JMS Hockey
X-PUBLISHED-TTL:P1W
BEGIN:VEVENT
UID:69e7a306d17bf
DTSTART:20150411T024500Z
SEQUENCE:0
TRANSP:OPAQUE
DTEND:20150411T041500Z
URL:http://jmshockey.com/games/7326
LOCATION:Schwan Superrink
SUMMARY:All level Game at Schwan Superrink
CLASS:PUBLIC
DTSTAMP:20260421T111710Z
END:VEVENT
END:VCALENDAR