BEGIN:VCALENDAR
VERSION:2.0
PRODID:JMS Hockey
X-PUBLISHED-TTL:P1W
BEGIN:VEVENT
UID:69e7a76f6e218
DTSTART:20150417T024500Z
SEQUENCE:0
TRANSP:OPAQUE
DTEND:20150417T041500Z
URL:http://jmshockey.com/games/7322
LOCATION:St Thomas Ice Arena
SUMMARY:All level Game at St Thomas Ice Arena
CLASS:PUBLIC
DTSTAMP:20260421T113559Z
END:VEVENT
END:VCALENDAR