BEGIN:VCALENDAR
VERSION:2.0
PRODID:JMS Hockey
X-PUBLISHED-TTL:P1W
BEGIN:VEVENT
UID:69e79f6faede1
DTSTART:20150430T013000Z
SEQUENCE:0
TRANSP:OPAQUE
DTEND:20150430T030000Z
URL:http://jmshockey.com/games/7313
LOCATION:Polar Arena
SUMMARY:Lower Level Game at Polar Arena
CLASS:PUBLIC
DTSTAMP:20260421T110151Z
END:VEVENT
END:VCALENDAR