BEGIN:VCALENDAR
VERSION:2.0
PRODID:JMS Hockey
X-PUBLISHED-TTL:P1W
BEGIN:VEVENT
UID:69e799f8d16a6
DTSTART:20150418T003000Z
SEQUENCE:0
TRANSP:OPAQUE
DTEND:20150418T020000Z
URL:http://jmshockey.com/games/7308
LOCATION:Augsburg
SUMMARY:Novice Game at Augsburg
CLASS:PUBLIC
DTSTAMP:20260421T103832Z
END:VEVENT
END:VCALENDAR