BEGIN:VCALENDAR
VERSION:2.0
PRODID:JMS Hockey
X-PUBLISHED-TTL:P1W
BEGIN:VEVENT
UID:69e79a3a4b658
DTSTART:20150423T020000Z
SEQUENCE:0
TRANSP:OPAQUE
DTEND:20150423T033000Z
URL:http://jmshockey.com/games/7306
LOCATION:Maple Grove
SUMMARY:Upper Level Game at Maple Grove
CLASS:PUBLIC
DTSTAMP:20260421T103938Z
END:VEVENT
END:VCALENDAR