BEGIN:VCALENDAR
VERSION:2.0
PRODID:JMS Hockey
X-PUBLISHED-TTL:P1W
BEGIN:VEVENT
UID:69e7ca817a02c
DTSTART:20150416T021500Z
SEQUENCE:0
TRANSP:OPAQUE
DTEND:20150416T034500Z
URL:http://jmshockey.com/games/7302
LOCATION:Maple Grove
SUMMARY:Upper Level Game at Maple Grove
CLASS:PUBLIC
DTSTAMP:20260421T140537Z
END:VEVENT
END:VCALENDAR