BEGIN:VCALENDAR
VERSION:2.0
PRODID:JMS Hockey
X-PUBLISHED-TTL:P1W
BEGIN:VEVENT
UID:69e7adb13cda4
DTSTART:20150403T004500Z
SEQUENCE:0
TRANSP:OPAQUE
DTEND:20150403T021500Z
URL:http://jmshockey.com/games/7297
LOCATION:Maple Grove
SUMMARY:Lower Level Game at Maple Grove
CLASS:PUBLIC
DTSTAMP:20260421T120241Z
END:VEVENT
END:VCALENDAR