BEGIN:VCALENDAR
VERSION:2.0
PRODID:JMS Hockey
X-PUBLISHED-TTL:P1W
BEGIN:VEVENT
UID:69e7d49447488
DTSTART:20150428T023000Z
SEQUENCE:0
TRANSP:OPAQUE
DTEND:20150428T040000Z
URL:http://jmshockey.com/games/7294
LOCATION:Breck Anderson Arena
SUMMARY:Intermediate Game at Breck Anderson Arena
CLASS:PUBLIC
DTSTAMP:20260421T144836Z
END:VEVENT
END:VCALENDAR