BEGIN:VCALENDAR
VERSION:2.0
PRODID:JMS Hockey
X-PUBLISHED-TTL:P1W
BEGIN:VEVENT
UID:69e7c1716e8bb
DTSTART:20150414T023000Z
SEQUENCE:0
TRANSP:OPAQUE
DTEND:20150414T040000Z
URL:http://jmshockey.com/games/7290
LOCATION:Breck Anderson Arena
SUMMARY:Intermediate Game at Breck Anderson Arena
CLASS:PUBLIC
DTSTAMP:20260421T132657Z
END:VEVENT
END:VCALENDAR