BEGIN:VCALENDAR
VERSION:2.0
PRODID:JMS Hockey
X-PUBLISHED-TTL:P1W
BEGIN:VEVENT
UID:69e7e90d01f3f
DTSTART:20090722T001500Z
SEQUENCE:0
TRANSP:OPAQUE
DTEND:20090722T014500Z
URL:http://jmshockey.com/games/729
LOCATION:Bloomington Ice Gardens
SUMMARY:Level 1 Game at Bloomington Ice Gardens
CLASS:PUBLIC
DTSTAMP:20260421T161557Z
END:VEVENT
END:VCALENDAR