BEGIN:VCALENDAR
VERSION:2.0
PRODID:JMS Hockey
X-PUBLISHED-TTL:P1W
BEGIN:VEVENT
UID:69e785626a95d
DTSTART:20150417T022000Z
SEQUENCE:0
TRANSP:OPAQUE
DTEND:20150417T035000Z
URL:http://jmshockey.com/games/7285
LOCATION:Burnsville Arena
SUMMARY:Intermediate Game at Burnsville Arena
CLASS:PUBLIC
DTSTAMP:20260421T091042Z
END:VEVENT
END:VCALENDAR