BEGIN:VCALENDAR
VERSION:2.0
PRODID:JMS Hockey
X-PUBLISHED-TTL:P1W
BEGIN:VEVENT
UID:69e7ba19830e2
DTSTART:20150408T021000Z
SEQUENCE:0
TRANSP:OPAQUE
DTEND:20150408T034000Z
URL:http://jmshockey.com/games/7282
LOCATION:Burnsville Arena
SUMMARY:Lower Level Game at Burnsville Arena
CLASS:PUBLIC
DTSTAMP:20260421T125537Z
END:VEVENT
END:VCALENDAR