BEGIN:VCALENDAR
VERSION:2.0
PRODID:JMS Hockey
X-PUBLISHED-TTL:P1W
BEGIN:VEVENT
UID:69e7a9249c182
DTSTART:20150425T014500Z
SEQUENCE:0
TRANSP:OPAQUE
DTEND:20150425T031500Z
URL:http://jmshockey.com/games/7274
LOCATION:Eden Prairie Comm Ctr
SUMMARY:Intermediate Game at Eden Prairie Comm Ctr
CLASS:PUBLIC
DTSTAMP:20260421T114316Z
END:VEVENT
END:VCALENDAR