BEGIN:VCALENDAR
VERSION:2.0
PRODID:JMS Hockey
X-PUBLISHED-TTL:P1W
BEGIN:VEVENT
UID:69e795d932ce5
DTSTART:20150328T020000Z
SEQUENCE:0
TRANSP:OPAQUE
DTEND:20150328T033000Z
URL:http://jmshockey.com/games/7269
LOCATION:Roseville Skating Center
SUMMARY:Lower Level Game at Roseville Skating Center
CLASS:PUBLIC
DTSTAMP:20260421T102057Z
END:VEVENT
END:VCALENDAR