BEGIN:VCALENDAR
VERSION:2.0
PRODID:JMS Hockey
X-PUBLISHED-TTL:P1W
BEGIN:VEVENT
UID:69e79a3fbc2c8
DTSTART:20150307T041500Z
SEQUENCE:0
TRANSP:OPAQUE
DTEND:20150307T054500Z
URL:http://jmshockey.com/games/7266
LOCATION:Roseville Skating Center
SUMMARY:Lower Level Game at Roseville Skating Center
CLASS:PUBLIC
DTSTAMP:20260421T103943Z
END:VEVENT
END:VCALENDAR