BEGIN:VCALENDAR
VERSION:2.0
PRODID:JMS Hockey
X-PUBLISHED-TTL:P1W
BEGIN:VEVENT
UID:69e7b729e3338
DTSTART:20150403T010000Z
SEQUENCE:0
TRANSP:OPAQUE
DTEND:20150403T023000Z
URL:http://jmshockey.com/games/7262
LOCATION:Burnsville Arena
SUMMARY:Intermediate Game at Burnsville Arena
CLASS:PUBLIC
DTSTAMP:20260421T124305Z
END:VEVENT
END:VCALENDAR