BEGIN:VCALENDAR
VERSION:2.0
PRODID:JMS Hockey
X-PUBLISHED-TTL:P1W
BEGIN:VEVENT
UID:69e7b9823cd51
DTSTART:20090722T004500Z
SEQUENCE:0
TRANSP:OPAQUE
DTEND:20090722T021500Z
URL:http://jmshockey.com/games/725
LOCATION:Eden Prairie Comm Ctr
SUMMARY:Level 3 Game at Eden Prairie Comm Ctr
CLASS:PUBLIC
DTSTAMP:20260421T125306Z
END:VEVENT
END:VCALENDAR