BEGIN:VCALENDAR
VERSION:2.0
PRODID:JMS Hockey
X-PUBLISHED-TTL:P1W
BEGIN:VEVENT
UID:69e79a3ce79c9
DTSTART:20150312T013000Z
SEQUENCE:0
TRANSP:OPAQUE
DTEND:20150312T030000Z
URL:http://jmshockey.com/games/7244
LOCATION:Polar Arena
SUMMARY:Lower Level Game at Polar Arena
CLASS:PUBLIC
DTSTAMP:20260421T103940Z
END:VEVENT
END:VCALENDAR