BEGIN:VCALENDAR
VERSION:2.0
PRODID:JMS Hockey
X-PUBLISHED-TTL:P1W
BEGIN:VEVENT
UID:69e7c37c529e7
DTSTART:20150302T030000Z
SEQUENCE:0
TRANSP:OPAQUE
DTEND:20150302T043000Z
URL:http://jmshockey.com/games/7239
LOCATION:Minnehaha Academy
SUMMARY:Intermediate Game at Minnehaha Academy
CLASS:PUBLIC
DTSTAMP:20260421T133540Z
END:VEVENT
END:VCALENDAR