BEGIN:VCALENDAR
VERSION:2.0
PRODID:JMS Hockey
X-PUBLISHED-TTL:P1W
BEGIN:VEVENT
UID:69e7ba0950526
DTSTART:20150220T033000Z
SEQUENCE:0
TRANSP:OPAQUE
DTEND:20150220T050000Z
URL:http://jmshockey.com/games/7234
LOCATION:Woodbury Bielenberg
SUMMARY:Lower Level Game at Woodbury Bielenberg
CLASS:PUBLIC
DTSTAMP:20260421T125521Z
END:VEVENT
END:VCALENDAR