BEGIN:VCALENDAR
VERSION:2.0
PRODID:JMS Hockey
X-PUBLISHED-TTL:P1W
BEGIN:VEVENT
UID:69e79fa787f55
DTSTART:20150314T023000Z
SEQUENCE:0
TRANSP:OPAQUE
DTEND:20150314T040000Z
URL:http://jmshockey.com/games/7225
LOCATION:Doug Woog Arena (Wakota)
SUMMARY:Intermediate Game at Doug Woog Arena (Wakota)
CLASS:PUBLIC
DTSTAMP:20260421T110247Z
END:VEVENT
END:VCALENDAR