BEGIN:VCALENDAR
VERSION:2.0
PRODID:JMS Hockey
X-PUBLISHED-TTL:P1W
BEGIN:VEVENT
UID:69e795be67b17
DTSTART:20150310T021000Z
SEQUENCE:0
TRANSP:OPAQUE
DTEND:20150310T034000Z
URL:http://jmshockey.com/games/7224
LOCATION:Doug Woog Arena (Wakota)
SUMMARY:Lower Level Game at Doug Woog Arena (Wakota)
CLASS:PUBLIC
DTSTAMP:20260421T102030Z
END:VEVENT
END:VCALENDAR