BEGIN:VCALENDAR
VERSION:2.0
PRODID:JMS Hockey
X-PUBLISHED-TTL:P1W
BEGIN:VEVENT
UID:69e7ae8df3b81
DTSTART:20150305T023000Z
SEQUENCE:0
TRANSP:OPAQUE
DTEND:20150305T040000Z
URL:http://jmshockey.com/games/7221
LOCATION:Doug Woog Arena (Wakota)
SUMMARY:Level 3 Game at Doug Woog Arena (Wakota)
CLASS:PUBLIC
DTSTAMP:20260421T120622Z
END:VEVENT
END:VCALENDAR