BEGIN:VCALENDAR
VERSION:2.0
PRODID:JMS Hockey
X-PUBLISHED-TTL:P1W
BEGIN:VEVENT
UID:69e7c3bcf0566
DTSTART:20150217T032000Z
SEQUENCE:0
TRANSP:OPAQUE
DTEND:20150217T045000Z
URL:http://jmshockey.com/games/7211
LOCATION:Doug Woog Arena (Wakota)
SUMMARY:Lower Level Game at Doug Woog Arena (Wakota)
CLASS:PUBLIC
DTSTAMP:20260421T133644Z
END:VEVENT
END:VCALENDAR