BEGIN:VCALENDAR
VERSION:2.0
PRODID:JMS Hockey
X-PUBLISHED-TTL:P1W
BEGIN:VEVENT
UID:69e7c37dacdbc
DTSTART:20150210T032000Z
SEQUENCE:0
TRANSP:OPAQUE
DTEND:20150210T045000Z
URL:http://jmshockey.com/games/7210
LOCATION:Doug Woog Arena (Wakota)
SUMMARY:Lower Level Game at Doug Woog Arena (Wakota)
CLASS:PUBLIC
DTSTAMP:20260421T133541Z
END:VEVENT
END:VCALENDAR