BEGIN:VCALENDAR
VERSION:2.0
PRODID:JMS Hockey
X-PUBLISHED-TTL:P1W
BEGIN:VEVENT
UID:69e7d628997cf
DTSTART:20150131T033000Z
SEQUENCE:0
TRANSP:OPAQUE
DTEND:20150131T050000Z
URL:http://jmshockey.com/games/7206
LOCATION:Northeast Arena
SUMMARY:Novice Game at Northeast Arena
CLASS:PUBLIC
DTSTAMP:20260421T145520Z
END:VEVENT
END:VCALENDAR