BEGIN:VCALENDAR
VERSION:2.0
PRODID:JMS Hockey
X-PUBLISHED-TTL:P1W
BEGIN:VEVENT
UID:69e7ba1898722
DTSTART:20150501T020000Z
SEQUENCE:0
TRANSP:OPAQUE
DTEND:20150501T033000Z
URL:http://jmshockey.com/games/7198
LOCATION:Maple Grove
SUMMARY:Lower Level Game at Maple Grove
CLASS:PUBLIC
DTSTAMP:20260421T125536Z
END:VEVENT
END:VCALENDAR