BEGIN:VCALENDAR
VERSION:2.0
PRODID:JMS Hockey
X-PUBLISHED-TTL:P1W
BEGIN:VEVENT
UID:69e79a3fd481d
DTSTART:20150305T033000Z
SEQUENCE:0
TRANSP:OPAQUE
DTEND:20150305T050000Z
URL:http://jmshockey.com/games/7194
LOCATION:Maple Grove
SUMMARY:Upper Level Game at Maple Grove
CLASS:PUBLIC
DTSTAMP:20260421T103943Z
END:VEVENT
END:VCALENDAR