BEGIN:VCALENDAR
VERSION:2.0
PRODID:JMS Hockey
X-PUBLISHED-TTL:P1W
BEGIN:VEVENT
UID:69e7d84ba95cf
DTSTART:20150207T034000Z
SEQUENCE:0
TRANSP:OPAQUE
DTEND:20150207T051000Z
URL:http://jmshockey.com/games/7174
LOCATION:Schwan Superrink
SUMMARY:All level Game at Schwan Superrink
CLASS:PUBLIC
DTSTAMP:20260421T150427Z
END:VEVENT
END:VCALENDAR