BEGIN:VCALENDAR
VERSION:2.0
PRODID:JMS Hockey
X-PUBLISHED-TTL:P1W
BEGIN:VEVENT
UID:69e7adc4a0df8
DTSTART:20150222T040000Z
SEQUENCE:0
TRANSP:OPAQUE
DTEND:20150222T053000Z
URL:http://jmshockey.com/games/7150
LOCATION:St Thomas Ice Arena
SUMMARY:All level Game at St Thomas Ice Arena
CLASS:PUBLIC
DTSTAMP:20260421T120300Z
END:VEVENT
END:VCALENDAR