BEGIN:VCALENDAR
VERSION:2.0
PRODID:JMS Hockey
X-PUBLISHED-TTL:P1W
BEGIN:VEVENT
UID:69e7a7a388f9c
DTSTART:20150403T024500Z
SEQUENCE:0
TRANSP:OPAQUE
DTEND:20150403T041500Z
URL:http://jmshockey.com/games/7138
LOCATION:St Thomas Ice Arena
SUMMARY:All level Game at St Thomas Ice Arena
CLASS:PUBLIC
DTSTAMP:20260421T113651Z
END:VEVENT
END:VCALENDAR