BEGIN:VCALENDAR
VERSION:2.0
PRODID:JMS Hockey
X-PUBLISHED-TTL:P1W
BEGIN:VEVENT
UID:69e7a59647364
DTSTART:20150324T024500Z
SEQUENCE:0
TRANSP:OPAQUE
DTEND:20150324T041500Z
URL:http://jmshockey.com/games/7137
LOCATION:St Thomas Ice Arena
SUMMARY:Elite Game at St Thomas Ice Arena
CLASS:PUBLIC
DTSTAMP:20260421T112806Z
END:VEVENT
END:VCALENDAR