BEGIN:VCALENDAR
VERSION:2.0
PRODID:JMS Hockey
X-PUBLISHED-TTL:P1W
BEGIN:VEVENT
UID:69e795f36f1ac
DTSTART:20150228T043000Z
SEQUENCE:0
TRANSP:OPAQUE
DTEND:20150228T060000Z
URL:http://jmshockey.com/games/7125
LOCATION:Roseville Skating Center
SUMMARY:Lower Level Game at Roseville Skating Center
CLASS:PUBLIC
DTSTAMP:20260421T102123Z
END:VEVENT
END:VCALENDAR