BEGIN:VCALENDAR
VERSION:2.0
PRODID:JMS Hockey
X-PUBLISHED-TTL:P1W
BEGIN:VEVENT
UID:69e7e21c6f65d
DTSTART:20090716T004500Z
SEQUENCE:0
TRANSP:OPAQUE
DTEND:20090716T021500Z
URL:http://jmshockey.com/games/712
LOCATION:St Thomas Ice Arena
SUMMARY:Level 4 Game at St Thomas Ice Arena
CLASS:PUBLIC
DTSTAMP:20260421T154620Z
END:VEVENT
END:VCALENDAR