BEGIN:VCALENDAR
VERSION:2.0
PRODID:JMS Hockey
X-PUBLISHED-TTL:P1W
BEGIN:VEVENT
UID:69e7ad9a063cf
DTSTART:20150219T023000Z
SEQUENCE:0
TRANSP:OPAQUE
DTEND:20150219T040000Z
URL:http://jmshockey.com/games/7119
LOCATION:Polar Arena
SUMMARY:Lower Level Game at Polar Arena
CLASS:PUBLIC
DTSTAMP:20260421T120218Z
END:VEVENT
END:VCALENDAR