BEGIN:VCALENDAR
VERSION:2.0
PRODID:JMS Hockey
X-PUBLISHED-TTL:P1W
BEGIN:VEVENT
UID:69e79a1b33290
DTSTART:20150228T034500Z
SEQUENCE:0
TRANSP:OPAQUE
DTEND:20150228T051500Z
URL:http://jmshockey.com/games/7116
LOCATION:Parade Ice Gardens
SUMMARY:Novice Game at Parade Ice Gardens
CLASS:PUBLIC
DTSTAMP:20260421T103907Z
END:VEVENT
END:VCALENDAR