BEGIN:VCALENDAR
VERSION:2.0
PRODID:JMS Hockey
X-PUBLISHED-TTL:P1W
BEGIN:VEVENT
UID:69e7c3aa14818
DTSTART:20150216T040000Z
SEQUENCE:0
TRANSP:OPAQUE
DTEND:20150216T053000Z
URL:http://jmshockey.com/games/7114
LOCATION:Minnehaha Academy
SUMMARY:Intermediate Game at Minnehaha Academy
CLASS:PUBLIC
DTSTAMP:20260421T133626Z
END:VEVENT
END:VCALENDAR