BEGIN:VCALENDAR
VERSION:2.0
PRODID:JMS Hockey
X-PUBLISHED-TTL:P1W
BEGIN:VEVENT
UID:69e7d488396b9
DTSTART:20150126T040000Z
SEQUENCE:0
TRANSP:OPAQUE
DTEND:20150126T053000Z
URL:http://jmshockey.com/games/7112
LOCATION:Minnehaha Academy
SUMMARY:Intermediate Game at Minnehaha Academy
CLASS:PUBLIC
DTSTAMP:20260421T144824Z
END:VEVENT
END:VCALENDAR