BEGIN:VCALENDAR
VERSION:2.0
PRODID:JMS Hockey
X-PUBLISHED-TTL:P1W
BEGIN:VEVENT
UID:69e7af01bc3b6
DTSTART:20150328T001500Z
SEQUENCE:0
TRANSP:OPAQUE
DTEND:20150328T014500Z
URL:http://jmshockey.com/games/7110
LOCATION:Eden Prairie Comm Ctr
SUMMARY:Intermediate Game at Eden Prairie Comm Ctr
CLASS:PUBLIC
DTSTAMP:20260421T120817Z
END:VEVENT
END:VCALENDAR