BEGIN:VCALENDAR
VERSION:2.0
PRODID:JMS Hockey
X-PUBLISHED-TTL:P1W
BEGIN:VEVENT
UID:69e7af28a4925
DTSTART:20150307T013000Z
SEQUENCE:0
TRANSP:OPAQUE
DTEND:20150307T030000Z
URL:http://jmshockey.com/games/7107
LOCATION:Eden Prairie Comm Ctr
SUMMARY:Intermediate Game at Eden Prairie Comm Ctr
CLASS:PUBLIC
DTSTAMP:20260421T120856Z
END:VEVENT
END:VCALENDAR