BEGIN:VCALENDAR
VERSION:2.0
PRODID:JMS Hockey
X-PUBLISHED-TTL:P1W
BEGIN:VEVENT
UID:69e7d479cdc2b
DTSTART:20150207T030000Z
SEQUENCE:0
TRANSP:OPAQUE
DTEND:20150207T043000Z
URL:http://jmshockey.com/games/7103
LOCATION:Eden Prairie Comm Ctr
SUMMARY:Intermediate Game at Eden Prairie Comm Ctr
CLASS:PUBLIC
DTSTAMP:20260421T144809Z
END:VEVENT
END:VCALENDAR