BEGIN:VCALENDAR
VERSION:2.0
PRODID:JMS Hockey
X-PUBLISHED-TTL:P1W
BEGIN:VEVENT
UID:69e7f43b9fb6a
DTSTART:20080930T020000Z
SEQUENCE:0
TRANSP:OPAQUE
DTEND:20080930T033000Z
URL:http://jmshockey.com/games/71
LOCATION:Xcel Energy Center
SUMMARY:Level 4 Game at Xcel Energy Center
CLASS:PUBLIC
DTSTAMP:20260421T170339Z
END:VEVENT
END:VCALENDAR