BEGIN:VCALENDAR
VERSION:2.0
PRODID:JMS Hockey
X-PUBLISHED-TTL:P1W
BEGIN:VEVENT
UID:69e7cae002635
DTSTART:20150218T031500Z
SEQUENCE:0
TRANSP:OPAQUE
DTEND:20150218T044500Z
URL:http://jmshockey.com/games/7096
LOCATION:Eden Prairie Comm Ctr
SUMMARY:Upper Level Game at Eden Prairie Comm Ctr
CLASS:PUBLIC
DTSTAMP:20260421T140712Z
END:VEVENT
END:VCALENDAR