BEGIN:VCALENDAR
VERSION:2.0
PRODID:JMS Hockey
X-PUBLISHED-TTL:P1W
BEGIN:VEVENT
UID:69e7dd25d5f12
DTSTART:20090715T004500Z
SEQUENCE:0
TRANSP:OPAQUE
DTEND:20090715T021500Z
URL:http://jmshockey.com/games/709
LOCATION:Eden Prairie Comm Ctr
SUMMARY:Level 3 Game at Eden Prairie Comm Ctr
CLASS:PUBLIC
DTSTAMP:20260421T152509Z
END:VEVENT
END:VCALENDAR