BEGIN:VCALENDAR
VERSION:2.0
PRODID:JMS Hockey
X-PUBLISHED-TTL:P1W
BEGIN:VEVENT
UID:69e7b9dff1395
DTSTART:20150221T221000Z
SEQUENCE:0
TRANSP:OPAQUE
DTEND:20150221T231000Z
URL:http://jmshockey.com/games/7079
LOCATION:Highland Arena
SUMMARY:All level Game at Highland Arena
CLASS:PUBLIC
DTSTAMP:20260421T125439Z
END:VEVENT
END:VCALENDAR