BEGIN:VCALENDAR
VERSION:2.0
PRODID:JMS Hockey
X-PUBLISHED-TTL:P1W
BEGIN:VEVENT
UID:69e7a306a5d96
DTSTART:20150105T030000Z
SEQUENCE:0
TRANSP:OPAQUE
DTEND:20150105T043000Z
URL:http://jmshockey.com/games/7066
LOCATION:Polar Arena
SUMMARY:Upper Level Game at Polar Arena
CLASS:PUBLIC
DTSTAMP:20260421T111710Z
END:VEVENT
END:VCALENDAR