BEGIN:VCALENDAR
VERSION:2.0
PRODID:JMS Hockey
X-PUBLISHED-TTL:P1W
BEGIN:VEVENT
UID:69e79a1c01ea7
DTSTART:20150105T040000Z
SEQUENCE:0
TRANSP:OPAQUE
DTEND:20150105T053000Z
URL:http://jmshockey.com/games/7061
LOCATION:Minnehaha Academy
SUMMARY:Intermediate Game at Minnehaha Academy
CLASS:PUBLIC
DTSTAMP:20260421T103908Z
END:VEVENT
END:VCALENDAR