BEGIN:VCALENDAR
VERSION:2.0
PRODID:JMS Hockey
X-PUBLISHED-TTL:P1W
BEGIN:VEVENT
UID:69e7c171858ba
DTSTART:20150127T033000Z
SEQUENCE:0
TRANSP:OPAQUE
DTEND:20150127T050000Z
URL:http://jmshockey.com/games/7055
LOCATION:Northeast Arena
SUMMARY:Intermediate Game at Northeast Arena
CLASS:PUBLIC
DTSTAMP:20260421T132657Z
END:VEVENT
END:VCALENDAR