BEGIN:VCALENDAR
VERSION:2.0
PRODID:JMS Hockey
X-PUBLISHED-TTL:P1W
BEGIN:VEVENT
UID:69e7adb9c111d
DTSTART:20150131T041500Z
SEQUENCE:0
TRANSP:OPAQUE
DTEND:20150131T054500Z
URL:http://jmshockey.com/games/7042
LOCATION:Roseville Skating Center
SUMMARY:Lower Level Game at Roseville Skating Center
CLASS:PUBLIC
DTSTAMP:20260421T120249Z
END:VEVENT
END:VCALENDAR