BEGIN:VCALENDAR
VERSION:2.0
PRODID:JMS Hockey
X-PUBLISHED-TTL:P1W
BEGIN:VEVENT
UID:69e79a11df64b
DTSTART:20150124T032000Z
SEQUENCE:0
TRANSP:OPAQUE
DTEND:20150124T045000Z
URL:http://jmshockey.com/games/7035
LOCATION:Doug Woog Arena (Wakota)
SUMMARY:Intermediate Game at Doug Woog Arena (Wakota)
CLASS:PUBLIC
DTSTAMP:20260421T103857Z
END:VEVENT
END:VCALENDAR